Workbook
Name biomasa: listy!$I$8:$J$8
Name Ciężarowy: listy!$Q$5:$R$5
Name drewno: listy!$I$5:$J$5
Name gaz: listy!$I$7:$J$7
Name GMINA_DYNAM_1: OFFSET(listy!$AP$4,,,COUNTIF(listy!$AP$4:$AP$2337,"?*"))
Name GMINA_DYNAM_10: OFFSET(listy!$CI$4,,,COUNTIF(listy!$CI$4:$CI$2337,"?*"))
Name GMINA_DYNAM_2: OFFSET(listy!$AU$4,,,COUNTIF(listy!$AU$4:$AU$2337,"?*"))
Name GMINA_DYNAM_3: OFFSET(listy!$AZ$4,,,COUNTIF(listy!$AZ$4:$AZ$2337,"?*"))
Name GMINA_DYNAM_4: OFFSET(listy!$BE$4,,,COUNTIF(listy!$BE$4:$BE$2337,"?*"))
Name GMINA_DYNAM_5: OFFSET(listy!$BJ$4,,,COUNTIF(listy!$BJ$4:$BJ$2337,"?*"))
Name GMINA_DYNAM_6: OFFSET(listy!$BO$4,,,COUNTIF(listy!$BO$4:$BO$2337,"?*"))
Name GMINA_DYNAM_7: OFFSET(listy!$BT$4,,,COUNTIF(listy!$BT$4:$BT$2337,"?*"))
Name GMINA_DYNAM_8: OFFSET(listy!$BY$4,,,COUNTIF(listy!$BY$4:$BY$2337,"?*"))
Name GMINA_DYNAM_9: OFFSET(listy!$CD$4,,,COUNTIF(listy!$CD$4:$CD$2337,"?*"))
Name KOD_PKD_DYNAM: OFFSET(listy!$E$4,,,COUNTIF(listy!$E$4:$E$1385,"?*"))
Name nazwa: #REF!
Name olej_opałowy: listy!$I$6:$K$6
Name Osobowy: listy!$Q$4
Name Rolnicza: listy!$Q$6:$R$6
Name węgiel: listy!$I$4:$J$4

Sheet ankieta ESG
C2: OCENA ISTOTNOŚCI RYZYKA ESG KLIENTA
C3: Załącznik 11 do "Metodyk kredytowych dla klientów instytucjonalnych"
C4: Należy uzupełnić pola podświetlone na bordowo.
C7: DATA ANKIETY | I7: OCENA RYZYKA | M7: RYZYKO POŚREDNIE | O7: LEGENDA
C8: PRACOWNIK WYPEŁNIAJĄCY | G8: {=IF($E$8="",TRUE,AND(IF(ISNUMBER(FIND(MID($E$8,ROW(INDIRECT("1:"&LEN($E$8))),1),"ABCDEFGHIJKLMNOPQRSTUVWXYZĄĆĘŁŃÓŚŹŻabcdefghijklmnopqrstuvwxyząćęłńóśźż -")),TRUE,FALSE)))} -> TRUE | I8: RYZYKO ŚRODOWISKOWE | J8: =IF(ocena!$L$49<>TRUE,"FORMULARZ NIEWYPEŁNIONY",IF(ocena!$L$49=TRUE,IF(ocena!$M$32="","FORMULARZ NIEWYPEŁNIONY",ocena!$M$32))) -> FORMULARZ NIEWYPEŁNIONY | M8: RYZYKO FIZYCZNE | N8: =IF(ocena!$L$49<>TRUE,"FORMULARZ NIEWYPEŁNIONY",IF(ocena!$L$49=TRUE,IF(ocena!$M$29="","FORMULARZ NIEWYPEŁNIONY",ocena!$M$29))) -> FORMULARZ NIEWYPEŁNIONY | O8: NISKIE
C9: NAZWA KLIENTA | M9: RYZYKO PRZEJŚCIA | N9: =IF(ocena!$L$49<>TRUE,"FORMULARZ NIEWYPEŁNIONY",IF(ocena!$L$49=TRUE,IF(ocena!$M$30="","FORMULARZ NIEWYPEŁNIONY",ocena!$M$30))) -> FORMULARZ NIEWYPEŁNIONY | O9: UMIARKOWANE
G10: =IF(C10="","❗wybierz rodzaj identyfikatora",IF(C10="REGON",IF(LEN(E10)<>9,"❌ błędny identyfikator",IF(MOD(8*--MID(E10,1,1)+9*--MID(E10,2,1)+2*--MID(E10,3,1)+3*--MID(E10,4,1)+4*--MID(E10,5,1)+5*--MID(E10,6,1)+6*--MID(E10,7,1)+7*--MID(E10,8,1),11)=--MID(E10,9,1),"✅ prawidłowy identyfikator","❌ błędny identyfikator")),IF(C10="PESEL",IF(LEN(E10)<>11,"❌ błędny identyfikator",IF(MOD(10-MOD(1*VALUE(MID(E10,1,1))+3*VALUE(MID(E10,2,1))+7*VALUE(MID(E10,3,1))+9*VALUE(MID(E10,4,1))+1*VALUE(MID(E10,5,1))+3*VALUE(MID(E10,6,1))+7*VALUE(MID(E10,7,1))+9*VALUE(MID(E10,8,1))+1*VALUE(MID(E10,9,1))+3*VALUE(MID(E10,10,1)),10),10)=VALUE(MID(E10,11,1)),"✅ prawidłowy identyfikator","❌ błędny identyfikator")),IF(C10="NIP",IFERROR(IF(LEN(E10)<>10,"❌ błędny identyfikator",IF(MOD(6*MID(E10,1,1)+5*MID(E10,2,1)+7*MID(E10,3,1)+2*MID(E10,4,1)+3*MID(E10,5,1)+4*MID(E10,6,1)+5*MID(E10,7,1)+6*MID(E10,8,1)+7*MID(E10,9,1), 11)=--MID(E10,10,1), "✅ prawidłowy identyfikator","❌ błędny identyfikator")),""))))) -> ❗wybierz rodzaj identyfikatora | M10: RYZYKO BIORÓŻNORODNOŚCI | N10: =IF(ocena!$L$49<>TRUE,"FORMULARZ NIEWYPEŁNIONY",IF(ocena!$L$49=TRUE,IF(ocena!$M$31="","FORMULARZ NIEWYPEŁNIONY",ocena!$M$31))) -> FORMULARZ NIEWYPEŁNIONY | O10: PODWYŻSZONE
C11: PKD WIODĄCEJ DZIAŁALNOŚCI GOSPODARCZEJ KLIENTA | G11: =IF(OR(E11="",IFERROR(VLOOKUP(E11,listy!C:C,1,FALSE),"BŁĄD")="BŁĄD"),"❗podaj PKD",IF(AND(PKD!F2="TAK",PKD!G2="TAK"),"PKD o potencjalnie podwyższonym ryzyku środowiskowym i społecznym",IF(PKD!F2="TAK","PKD o potencjalnie podwyższonym ryzyku środowiskowym",IF(PKD!G2="TAK","PKD o potencjalnie podwyższonym ryzyku społecznym",IF(PKD!E2="TAK","PKD o potencjalnie wysokim ryzyku środowiskowym i społecznym",""))))) -> ❗podaj PKD | I11: RYZYKO SPOŁECZNE I ŁADU KORPORACYJNEGO | J11: =IF(ocena!$L$49<>TRUE,"FORMULARZ NIEWYPEŁNIONY",IF(ocena!$L$49=TRUE,IF(ocena!$M$33="","FORMULARZ NIEWYPEŁNIONY",ocena!$M$33))) -> FORMULARZ NIEWYPEŁNIONY | O11: WYSOKIE
M13: SCENARIUSZE: FORMATOWANIE WARUNKOWE
C14: PRZYCHODY OGÓŁEM W PLN | I14: RYZYKO ESG ŁĄCZNIE | J14: =IF(ocena!$L$49<>TRUE,"FORMULARZ NIEWYPEŁNIONY",IF(ocena!$L$49=TRUE,IF(ocena!$L$34="","FORMULARZ NIEWYPEŁNIONY",ocena!$L$34))) -> FORMULARZ NIEWYPEŁNIONY | M14: ↑ RYZ | N14: {=SUBSTITUTE(CELL("adres",O14),"$","")} -> O14 | O14: =IF(OR(E11="",IFERROR(FIND("PKD",E11),1000)=1000),"",IF(OR(PKD!E2="TAK",PKD!F2="TAK",PKD!G2="TAK"),"TAK","NIE"))
C15: SUMA BILANSOWA W PLN (AKTYWA TRWAŁE i OBROTOWE) | M15: PKD EU ETS | N15: {=SUBSTITUTE(CELL("adres",O15),"$","")} -> O15 | O15: =IF(PKD!I2="","",IF(PKD!I2="TAK","TAK","NIE"))
M16: DUŻY + MM Z PKD ↑ RYZ | N16: {=SUBSTITUTE(CELL("adres",O16),"$","")} -> O16 | O16: =IF(E17="","",IF(E17="DUŻY","TAK",IF(AND(OR(E17="MŚP",E17="mikro"),OR(E11="",IFERROR(FIND("PKD",E11),1000)=1000)),"",IF(AND(OR(E17="MŚP",E17="mikro"),OR(PKD!E2="TAK",PKD!F2="TAK",PKD!G2="TAK")),"TAK","NIE"))))
C17: KLIENT DUŻY / MŚP / MIKRO: (definicja w komentarzu) | I17: =IF(J8="FORMULARZ NIEWYPEŁNIONY","FORMULARZ NIEWYPEŁNIONY",IF(M219="BRAK SEGMENTU","FORMULARZ NIEWYPEŁNIONY",IF(M219="NIESPEŁNIONE","MINIMALNE GWARANCJE"&CHAR(10)&" SPOŁECZNE NIESPEŁNIONE",IF(M219="SPEŁNIONE","MINIMALNE GWARANCJE"&CHAR(10)&" SPOŁECZNE SPEŁNIONE")))) -> FORMULARZ NIEWYPEŁNIONY | M17: DUŻY | N17: {=SUBSTITUTE(CELL("adres",O17),"$","")} -> O17 | O17: =IF(E17="","",IF(E17="DUŻY","TAK","NIE"))
M18: MIKRO LUB MŚP | N18: {=SUBSTITUTE(CELL("adres",O18),"$","")} -> O18 | O18: =IF(E17="","",IF(OR(E17="Mikro",E17="MŚP"),"TAK","NIE"))
M19: DUŻY LUB MŚP | N19: {=SUBSTITUTE(CELL("adres",O19),"$","")} -> O19 | O19: =IF(E17="","",IF(OR(E17="Duży",E17="MŚP"),"TAK","NIE"))
M20: MIKRO | N20: {=SUBSTITUTE(CELL("adres",O20),"$","")} -> O20 | O20: =IF(E17="","",IF(E17="Mikro","TAK","NIE"))
D21: >>> WYPEŁNIA PRACOWNIK BANKU >>>
D23: MINIMALNE GWARANCJE SPOŁECZNE
D25: IDENTYFIKACJA KONTROWERSJI
C27: 1 | D27: Czy w przeciągu ostatnich 2 lat Business and Human Rights Resource Centre wezwało do wyjaśnień, bądź wysunęło zarzuty wobec Klienta (w zakresie praw człowieka i prawa pracy)?*
C28: * Do określenia na podstawie bazy danych na stronie intranetowej dostępnej po kliknięciu na przycisk z linkiem:
C30: 2 | D30: Czy Klient przedstawił wyjaśnienia lub odpowiedział na zarzuty Business and Human Rights Resource Centre?
C32: 3 | D32: Czy Krajowy Punkt Kontaktowy OECD otrzymał zawiadomienie o potencjalnym naruszeniu Wytycznych OECD przez Klienta i wezwał do wyjaśnień?*
C33: * Do określenia na podstawie bazy danych na stronie intranetowej dostępnej po kliknięciu na przycisk z linkiem:
D36: >>> WYPEŁNIA KLIENT >>>
D38: RYZYKO PRZEJŚCIA ZWIĄZANE ZE ZMIANĄ KLIMATU
D40: EMISJE GHG ZAKRESU 1
C42: 4 | D42: Czy obliczają Państwo swoje bezpośrednie emisje gazów cieplarnianych z Zakresu 1 (np. z pieców, pojazdów, hodowli zwierząt)?
C44: 5 | D44: Proszę podać ilość emisji gazów cieplarnianych z Zakresu 1 wyemitowanych w ciągu ostatniego roku obrotowego (w tCO₂):
C46: 6 | D46: ="Czy zgadzają się Państwo na wykorzystanie średnich emisji branżowych? Państwa emisja branżowa wynosi: "&SUBSTITUTE(TEXT(M106,"# ##0,00")," "," ")&" tCO₂."&CHAR(10)&"Jeżeli NIE to należy we własnym zakresie obliczyć emisje generowane przez Państwa działalność gospodarczą." -> Czy zgadzają się Państwo na wykorzystanie średnich emisji branżowych? Państwa emisja branżowa wynosi: tCO₂. Jeżeli NIE to należy we własnym zakresie obliczyć emisje generowane przez Państwa działalność gospodarczą. | M46: MIKRO
C48: 7 | D48: Czy korzystają Państwo z pieców lub kotłów opalanych opałem?
C50: 8 | D50: Proszę określić ilość zużycia opału i rodzaj opału w każdym piecu lub kotle w ciągu ostatniego roku obrotowego:
D52: Piec / kocioł | E52: Rodzaj opału (wybierz z listy) | G52: Ilość zużytego opału w roku obrotowym | I52: Jednostka (wybierz z listy) | O52: Czy wymaga uzupełnienia
D53: Piec / kocioł 1 | J53: =IF(AND(E53<>"",G53<>"",I53<>""),SUBSTITUTE(TEXT('kalkulator GHG'!L10,"# ##0,0")," "," ")&" tCO2e","") | O53: =IF(OR(AND(O17="TAK",J42="NIE",J48="TAK"),AND(O18="TAK",J42="NIE",J46="NIE",J48="TAK")),IF(SUM(IF(SUM((E53<>"")+(G53<>"")+(I53<>""))>0,IF(SUM((E53<>"")+(G53<>"")+(I53<>""))<3,1,0),0)+IF(SUM((E54<>"")+(G54<>"")+(I54<>""))>0,IF(SUM((E54<>"")+(G54<>"")+(I54<>""))<3,1,0),0)+IF(SUM((E55<>"")+(G55<>"")+(I55<>""))>0,IF(SUM((E55<>"")+(G55<>"")+(I55<>""))<3,1,0),0)+IF(SUM((E56<>"")+(G56<>"")+(I56<>""))>0,IF(SUM((E56<>"")+(G56<>"")+(I56<>""))<3,1,0),0)+IF(SUM((E57<>"")+(G57<>"")+(I57<>""))>0,IF(SUM((E57<>"")+(G57<>"")+(I57<>""))<3,1,0),0))>0,"TAK",IF(AND(J48="TAK",COUNTBLANK(E53:I57)=25),"TAK","NIE")),"")
D54: Piec / kocioł 2 | J54: =IF(AND(E54<>"",G54<>"",I54<>""),SUBSTITUTE(TEXT('kalkulator GHG'!L11,"# ##0,0")," "," ")&" tCO2e","")
D55: Piec / kocioł 3 | J55: =IF(AND(E55<>"",G55<>"",I55<>""),SUBSTITUTE(TEXT('kalkulator GHG'!L12,"# ##0,0")," "," ")&" tCO2e","")
D56: Piec / kocioł 4 | J56: =IF(AND(E56<>"",G56<>"",I56<>""),SUBSTITUTE(TEXT('kalkulator GHG'!L13,"# ##0,0")," "," ")&" tCO2e","")
D57: Piec / kocioł 5 | J57: =IF(AND(E57<>"",G57<>"",I57<>""),SUBSTITUTE(TEXT('kalkulator GHG'!L14,"# ##0,0")," "," ")&" tCO2e","")
C59: 9 | D59: Czy korzystają Państwo z własnych lub leasingowanych samochodów osobowych, ciężarowych lub pojazdów rolniczych, wykorzystywanych na potrzeby prowadzonej działalności (nie dotyczy prywatnych pojazdów pracowników dojeżdżających do pracy)?
C61: 10 | D61: Proszę podać następujące dane pojazdów:
...

Sheet instrukcja
C2: INSTRUKCJA DO ANKIETY OCENY ISTOTNOŚCI RYZYKA ESG KLIENTA
C4: 1. W pierwszej kolejności w ankiecie należy uzupełnić podstawowe informacje (wiersz 1-7):
D5: a. datę wypełnienia ankiety;
D6: b. dane pracownika wypełniającego;
D7: c. nazwę Klienta;
D8: d. wybrany rodzaj i numer identyfikatora Klienta;
D9: e. kod PKD wiodącej działalności gospodarczej Klienta - do wyboru z listy rozwijanej:
D10: informacja o kodach PKD o potencjalnie podwyższonym/wysokim ryzyku ESG jest automatycznie wyświetlana obok wybranego kodu;
D11: f. przychody ogółem w PLN;
D12: g. suma bilansowa w PLN (aktywa trwałe i obrotowe);
D13: h. segment (wg klasyfikacji unijnej), do jakiego należy Klient wg skali/rozmiaru jego działalności gospodarczej.
C15: >>> WYPEŁNIA PRACOWNIK BANKU >>>
C17: MINIMALNE GWARANCJE SPOŁECZNE
C18: 1 | D18: W przypadku odpowiedzi „TAK” należy odpowiedzieć na Pytanie nr 2.
C19: 2 | D19: Należy odpowiedzieć „TAK” lub „NIE”.
C20: 3 | D20: Należy odpowiedzieć „TAK” lub „NIE”.
C22: >>> WYPEŁNIA KLIENT >>>
C24: RYZYKO PRZEJŚCIA ZWIĄZANE ZE ZMIANĄ KLIMATU
C25: EMISJE GHG ZAKRESU 1
C26: 4 | D26: W przypadku odpowiedzi „TAK” należy odpowiedzieć na pytanie nr 5. W przypadku odpowiedzi "NIE" należy odpowiedzieć na pytania nr 7, nr 9, nr 11 i nr 13.(dotyczy wyłącznie klienta Dużego i MŚP). W przypadku odpowiedzi "NIE" należy odpowiedzieć na pytania nr 6 (dotyczy wyłącznie klienta Mikro).
C27: 5 | D27: Proszę podać wartości do dwóch miejsc po przecinku.
C28: 6 | D28: PYTANIE DLA KLIENTÓW MIKRO W przypadku odpowiedzi „TAK” Klient akceptuje wartość średniej emisji branżowej wyliczonej dla danego klienta. W przypadku odpowiedzi "NIE" należy odpowiedzieć na pytania nr 7, nr 9, nr 11 i nr 13.
C29: 7 | D29: W przypadku odpowiedzi „TAK” należy odpowiedzieć na pytanie nr 8. W przypadku odpowiedzi "NIE" należy przejść do pytania nr 9.
C30: 8 | D30: Należy uzupełnić w całości minimum jeden wiersz.
C31: 9 | D31: W przypadku odpowiedzi „TAK” należy odpowiedzieć na pytanie nr 10. W przypadku odpowiedzi "NIE" należy przejść do pytania nr 11.
C32: 10 | D32: Należy uzupełnić w całości minimum jeden wiersz.
C33: 11 | D33: W przypadku odpowiedzi „TAK” należy odpowiedzieć na pytanie nr 12. W przypadku odpowiedzi "NIE" należy przejść do pytania nr 13.
C34: 12 | D34: Należy uzupełnić w całości minimum jeden wiersz.
C35: 13 | D35: W przypadku odpowiedzi „TAK” należy odpowiedzieć na pytanie nr 14. W przypadku odpowiedzi "NIE" należy przejść do pytania nr 15.
C36: 14 | D36: Należy uzupełnić w całości minimum jeden wiersz.
C37: EMISJE GHG ZAKRESU 2
C38: 15 | D38: W przypadku odpowiedzi „TAK” należy odpowiedzieć na pytanie nr 16. W przypadku odpowiedzi "NIE" należy odpowiedzieć na pytania nr 18 i nr 19 (dotyczy wyłącznie klienta Dużego i MŚP). W przypadku odpowiedzi "NIE" należy odpowiedzieć na pytania nr 17 (dotyczy wyłącznie klienta Mikro).
C39: 16 | D39: Proszę podać wartości do dwóch miejsc po przecinku.
C40: 17 | D40: PYTANIE DLA KLIENTÓW MIKRO W przypadku odpowiedzi „TAK” Klient akceptuje wartość średniej emisji branżowej wyliczonej dla działalności gospodarczej klienta. W przypadku odpowiedzi "NIE" należy odpowiedzieć na pytania nr 18 i nr 19.
C41: 18 | D41: Proszę podać wartości do dwóch miejsc po przecinku oraz wybrać odpowiednią jednostkę miary.
C42: 19 | D42: Proszę podać wartości do dwóch miejsc po przecinku oraz wybrać odpowiednią jednostkę miary.
C43: 20 | D43: W przypadku odpowiedzi „TAK” należy odpowiedzieć na pytanie nr 21. W przypadku odpowiedzi "NIE" należy przejść do pytania nr 22 (dotyczy wyłącznie klienta Dużego) lub pytania 25 (dotyczy wyłącznie klienta Mikro i MŚP).
C44: 21 | D44: Należy uzupełnić w całości minimum jeden wiersz.
C45: EMISJE GHG ZAKRESU 3
C46: 22 | D46: W przypadku odpowiedzi „TAK” należy odpowiedzieć na pytanie nr 23 oraz pytanie nr 24. W przypadku odpowiedzi "NIE" należy przejść do pytania nr 25.
...

Sheet raport
A1: WERSJA ANKIETY | B1: NAZWA PLIKU | C1: DATA ANKIETY | D1: PRACOWNIK WYPEŁNIAJĄCY | E1: NAZWA KLIENTA | F1: RODZAJ IDENTYFIKATORA | G1: IDENTYFIKATOR | H1: PKD WIODĄCEJ DZIAŁALNOŚCI GOSPODARCZEJ KLIENTA | I1: RYZYKO PKD WIODĄCEJ DZIAŁALNOŚCI GOSPODARCZEJ KLIENTA | J1: KLIENT DUŻY / MŚP / MIKRO | K1: RYZYKO FIZYCZNE | L1: RYZYKO PRZEJŚCIA | M1: RYZYKO BIORÓŻNORODNOŚCI | N1: RYZYKO ŚRODOWISKOWE | O1: RYZYKO SPOŁECZNE I ŁADU KORPORACYJNEGO | P1: RYZYKO ESG ŁĄCZNIE | Q1: MINIMALNE GWARANCJE SPOŁECZNE | R1: EMISJE 1 (w tCO₂) | S1: EMISJE 2 (w tCO₂) | T1: EMISJE 3 (w tCO₂)
A2: WERSJA 3.1 | B2: =IF(OR('ankieta ESG'!E7="",'ankieta ESG'!E9="",'ankieta ESG'!E10=""),"","ArkESG_"&'ankieta ESG'!E10&"_"&'ankieta ESG'!E9&"_"&TEXT('ankieta ESG'!E7,"RRRRMMDD")) | C2: =IF('ankieta ESG'!E7="","",'ankieta ESG'!E7) | D2: =IF('ankieta ESG'!E8="","",'ankieta ESG'!E8) | E2: =IF('ankieta ESG'!E9="","",'ankieta ESG'!E9) | F2: =IF('ankieta ESG'!C10="","",'ankieta ESG'!C10) | G2: =IF('ankieta ESG'!E10="","",'ankieta ESG'!E10) | H2: =IF('ankieta ESG'!E11="","",'ankieta ESG'!E11) | I2: =IF('ankieta ESG'!G11="","",'ankieta ESG'!G11) -> ❗podaj PKD | J2: =IF('ankieta ESG'!E17="","",'ankieta ESG'!E17) | K2: =IF('ankieta ESG'!N8="","",'ankieta ESG'!N8) -> FORMULARZ NIEWYPEŁNIONY | L2: =IF('ankieta ESG'!N9="","",'ankieta ESG'!N9) -> FORMULARZ NIEWYPEŁNIONY | M2: =IF('ankieta ESG'!N10="","",'ankieta ESG'!N10) -> FORMULARZ NIEWYPEŁNIONY | N2: =IF('ankieta ESG'!J8="","",'ankieta ESG'!J8) -> FORMULARZ NIEWYPEŁNIONY | O2: =IF('ankieta ESG'!J11="","",'ankieta ESG'!J11) -> FORMULARZ NIEWYPEŁNIONY | P2: =IF('ankieta ESG'!J14="","",'ankieta ESG'!J14) -> FORMULARZ NIEWYPEŁNIONY | Q2: =IF('ankieta ESG'!I17="","",'ankieta ESG'!I17) -> FORMULARZ NIEWYPEŁNIONY | R2: =IF('ankieta ESG'!J106="","",'ankieta ESG'!J106) | S2: =IF('ankieta ESG'!J134="","",'ankieta ESG'!J134) | T2: =IF('ankieta ESG'!J159="","",'ankieta ESG'!J159)

Sheet AMA
A1: category | B1: question | C1: esg_value | D1: esg_points | E1: category2 | F1: lp_question | G1: question2 | H1: question3 | I1: question4 | J1: question5 | P1: 0
A2: KOD FORMULARZA | B2: KOD_PLIKU | C2: ESG_202407_AAC | E2: KOD | F2: - | G2: - | H2: - | I2: - | J2: - | P2: 0
A3: KOD FORMULARZA | B3: NAZWA_ANKIETY | C3: ESG_202511 | E3: KOD | F3: - | G3: - | H3: - | I3: - | J3: - | L3: LEGENDA
A4: KOD FORMULARZA | B4: WERSJA_ANKIETY | C4: WERSJA 3.1 | E4: KOD | F4: - | G4: - | H4: - | I4: - | J4: - | M4: formuła
A5: KOD FORMULARZA | B5: DATA_ANKIETY | C5: =TODAY() -> 46267 | E5: KOD | F5: - | G5: - | H5: - | I5: - | J5: - | M5: wartość
A6: FORMULARZ | B6: ='ankieta ESG'!C10 -> 0 | C6: ='ankieta ESG'!E10 -> 0 | E6: DANE KLIENTA | F6: - | G6: - | H6: - | I6: - | J6: - | M6: uwagi
A7: FORMULARZ | B7: o_info_o_podmiocie_data_ankiety | C7: ='ankieta ESG'!E7 -> 0 | E7: DANE KLIENTA | F7: - | G7: - | H7: - | I7: - | J7: - | M7: puste
A8: FORMULARZ | B8: o_info_o_podmiocie_pracownik_wypelniajacy | C8: ='ankieta ESG'!E8 -> 0 | E8: DANE KLIENTA | F8: - | G8: - | H8: - | I8: - | J8: - | M8: nie zmieniać - ważne przy mapowaniu do BT
A9: FORMULARZ | B9: o_info_o_podmiocie_nazwa_klienta | C9: ='ankieta ESG'!E9 -> 0 | E9: DANE KLIENTA | F9: - | G9: - | H9: - | I9: - | J9: -
A10: FORMULARZ | B10: o_info_o_podmiocie_rodzaj_identyfikatora | C10: ='ankieta ESG'!C10 -> 0 | E10: DANE KLIENTA | F10: - | G10: - | H10: - | I10: - | J10: -
A11: FORMULARZ | B11: o_info_o_podmiocie_identyfikator | C11: ='ankieta ESG'!E10 -> 0 | E11: DANE KLIENTA | F11: - | G11: - | H11: - | I11: - | J11: -
A12: FORMULARZ | B12: o_info_o_podmiocie_pkd | C12: ='ankieta ESG'!E11 -> 0 | E12: DANE KLIENTA | F12: - | G12: =IF('ankieta ESG'!G11="",0,'ankieta ESG'!G11) -> ❗podaj PKD | H12: - | I12: - | J12: -
A13: FORMULARZ | B13: o_info_o_podmiocie_przychody | C13: ='ankieta ESG'!E14 -> 0 | E13: DANE KLIENTA | F13: - | G13: - | H13: - | I13: - | J13: -
A14: FORMULARZ | B14: o_info_o_podmiocie_suma_bilansowa | C14: ='ankieta ESG'!E15 -> 0 | E14: DANE KLIENTA | F14: - | G14: - | H14: - | I14: - | J14: -
A15: FORMULARZ | B15: o_info_o_podmiocie_rozmiar_klienta | C15: ='ankieta ESG'!E17 -> 0 | E15: DANE KLIENTA | F15: - | G15: - | H15: - | I15: - | J15: -
A16: FORMULARZ | B16: ↑ RYZ | C16: =IF('ankieta ESG'!O14="",0,'ankieta ESG'!O14) -> 0 | E16: SCENARIUSZE | F16: - | G16: - | H16: - | I16: - | J16: -
A17: FORMULARZ | B17: PKD EU ETS | C17: =IF('ankieta ESG'!O15="",0,'ankieta ESG'!O15) -> 0 | E17: SCENARIUSZE | F17: - | G17: - | H17: - | I17: - | J17: -
A18: FORMULARZ | B18: DUŻY + MM Z PKD ↑ RYZ | C18: =IF('ankieta ESG'!O16="",0,'ankieta ESG'!O16) -> 0 | E18: SCENARIUSZE | F18: - | G18: - | H18: - | I18: - | J18: -
A19: FORMULARZ | B19: DUŻY | C19: =IF('ankieta ESG'!O17="",0,'ankieta ESG'!O16) -> 0 | E19: SCENARIUSZE | F19: - | G19: - | H19: - | I19: - | J19: -
A20: FORMULARZ | B20: MIKRO LUB MŚP | C20: =IF('ankieta ESG'!O18="",0,'ankieta ESG'!O18) -> 0 | E20: SCENARIUSZE | F20: - | G20: - | H20: - | I20: - | J20: -
A21: OCENA RYZYKA | B21: o_info_ryz_fizyczne | C21: ='ankieta ESG'!N8 -> FORMULARZ NIEWYPEŁNIONY | E21: RYZYKO POŚREDNIE | F21: - | G21: ='ankieta ESG'!P8 -> 0 | H21: - | I21: - | J21: -
A22: OCENA RYZYKA | B22: o_info_ryz_przejscia | C22: ='ankieta ESG'!N9 -> FORMULARZ NIEWYPEŁNIONY | E22: RYZYKO POŚREDNIE | F22: - | G22: ='ankieta ESG'!P9 -> 0 | H22: - | I22: - | J22: -
A23: OCENA RYZYKA | B23: o_info_ryz_bioroznorodnosci | C23: ='ankieta ESG'!N10 -> FORMULARZ NIEWYPEŁNIONY | E23: RYZYKO POŚREDNIE | F23: - | G23: ='ankieta ESG'!P10 -> 0 | H23: - | I23: - | J23: -
A24: OCENA RYZYKA | B24: o_info_ryz_srodowiskowe | C24: ='ankieta ESG'!J8 -> FORMULARZ NIEWYPEŁNIONY | E24: RYZYKO OSTATECZNE | F24: - | G24: ='ankieta ESG'!K8 -> 0 | H24: - | I24: - | J24: -
A25: OCENA RYZYKA | B25: o_info_ryz_spoleczne_ladu | C25: ='ankieta ESG'!J11 -> FORMULARZ NIEWYPEŁNIONY | E25: RYZYKO OSTATECZNE | F25: - | G25: ='ankieta ESG'!K11 -> 0 | H25: - | I25: - | J25: -
A26: OCENA RYZYKA | B26: o_info_ryz_esg_lacznie | C26: ='ankieta ESG'!J14 -> FORMULARZ NIEWYPEŁNIONY | E26: RYZYKO OSTATECZNE | F26: - | G26: - | H26: - | I26: - | J26: -
A27: OCENA RYZYKA | B27: o_info_minimalne_gwar_spoleczne | C27: ='ankieta ESG'!I17 -> FORMULARZ NIEWYPEŁNIONY | E27: MINIMALNE GWARANCJE | F27: - | G27: - | H27: - | I27: - | J27: -
A28: MINIMALNE GWARANCJE SPOŁECZNE | B28: o_business_human_rights_resource_centre_wezwanie | C28: ='ankieta ESG'!J27 -> 0 | E28: IDENTYFIKACJA KONTROWERSJI | F28: 1 | G28: - | H28: - | I28: - | J28: -
A29: MINIMALNE GWARANCJE SPOŁECZNE | B29: o_business_human_rights_resource_centre_odpowiedz | C29: ='ankieta ESG'!J30 -> 0 | E29: IDENTYFIKACJA KONTROWERSJI | F29: 2 | G29: - | H29: - | I29: - | J29: -
A30: MINIMALNE GWARANCJE SPOŁECZNE | B30: o_OECD_wezwanie | C30: ='ankieta ESG'!J32 -> 0 | E30: IDENTYFIKACJA KONTROWERSJI | F30: 3 | G30: - | H30: - | I30: - | J30: -
A31: RYZYKO PRZEJŚCIA ZWIĄZANE ZE ZMIANĄ KLIMATU | B31: o_ryzyko_przejscia_czy_obliczaja_emisje_zakr_1 | C31: ='ankieta ESG'!J42 -> 0 | E31: EMISJE GHG ZAKRESU 1 | F31: 4 | G31: - | H31: - | I31: - | J31: -
A32: RYZYKO PRZEJŚCIA ZWIĄZANE ZE ZMIANĄ KLIMATU | B32: o_ryzyko_przejscia_podaj_ilosc_gazow_zakr_1 | C32: ='ankieta ESG'!J44 -> 0 | E32: EMISJE GHG ZAKRESU 1 | F32: 5 | G32: - | H32: - | I32: - | J32: -
A33: RYZYKO PRZEJŚCIA ZWIĄZANE ZE ZMIANĄ KLIMATU | B33: o_ryzyko_przejscia_zgoda_na_emisje_branzowe_zakr_1 | C33: ='ankieta ESG'!J46 -> 0 | E33: EMISJE GHG ZAKRESU 1 | F33: 6A | G33: - | H33: - | I33: - | J33: -
A34: RYZYKO PRZEJŚCIA ZWIĄZANE ZE ZMIANĄ KLIMATU | B34: o_ryzyko_przejscia_wynik_emisje_branzowe_zakr_1 | C34: =IF('ankieta ESG'!M106="",0,'ankieta ESG'!M106) -> 0 | E34: EMISJE GHG ZAKRESU 1 | F34: 6B | G34: - | H34: - | I34: - | J34: -
A35: RYZYKO PRZEJŚCIA ZWIĄZANE ZE ZMIANĄ KLIMATU | B35: o_ryzyko_przejscia_czy_korzystaja_z_piecow_zakr_1 | C35: ='ankieta ESG'!J48 -> 0 | E35: EMISJE GHG ZAKRESU 1 | F35: 7 | G35: - | H35: - | I35: - | J35: -
A36: RYZYKO PRZEJŚCIA ZWIĄZANE ZE ZMIANĄ KLIMATU | B36: o_1_ryzyko_przejscia_piec_zakr_1 | C36: ='ankieta ESG'!G53 -> 0 | E36: EMISJE GHG ZAKRESU 1 | F36: 8 | G36: Piec / kocioł 1 | H36: ='ankieta ESG'!E53 -> 0 | I36: ='ankieta ESG'!I53 -> 0 | J36: -
A37: RYZYKO PRZEJŚCIA ZWIĄZANE ZE ZMIANĄ KLIMATU | B37: o_2_ryzyko_przejscia_piec_zakr_1 | C37: ='ankieta ESG'!G54 -> 0 | E37: EMISJE GHG ZAKRESU 1 | F37: 8 | G37: Piec / kocioł 2 | H37: ='ankieta ESG'!E54 -> 0 | I37: ='ankieta ESG'!I54 -> 0 | J37: -
A38: RYZYKO PRZEJŚCIA ZWIĄZANE ZE ZMIANĄ KLIMATU | B38: o_3_ryzyko_przejscia_piec_zakr_1 | C38: ='ankieta ESG'!G55 -> 0 | E38: EMISJE GHG ZAKRESU 1 | F38: 8 | G38: Piec / kocioł 3 | H38: ='ankieta ESG'!E55 -> 0 | I38: ='ankieta ESG'!I55 -> 0 | J38: -
A39: RYZYKO PRZEJŚCIA ZWIĄZANE ZE ZMIANĄ KLIMATU | B39: o_4_ryzyko_przejscia_piec_zakr_1 | C39: ='ankieta ESG'!G56 -> 0 | E39: EMISJE GHG ZAKRESU 1 | F39: 8 | G39: Piec / kocioł 4 | H39: ='ankieta ESG'!E56 -> 0 | I39: ='ankieta ESG'!I56 -> 0 | J39: -
A40: RYZYKO PRZEJŚCIA ZWIĄZANE ZE ZMIANĄ KLIMATU | B40: o_5_ryzyko_przejscia_piec_zakr_1 | C40: ='ankieta ESG'!G57 -> 0 | E40: EMISJE GHG ZAKRESU 1 | F40: 8 | G40: Piec / kocioł 5 | H40: ='ankieta ESG'!E57 -> 0 | I40: ='ankieta ESG'!I57 -> 0 | J40: -
...

Sheet ocena
C3: PYTANIA | D3: SCENARIUSZE | E3: ODPOWIEDZI | F3: PUNKTY | G3: WYNIKI | H3: RYZYKO POŚREDNIE | I3: RYZYKO OSTATECZNIE | K3: MIKRO/MŚP | P3: DUŻY
B4: 1 | C4: branża (z formatki podstawowej) | E4: niskiego ryzyka ESG | F4: 0 | G4: =IF('ankieta ESG'!G11="",ocena!F4,"") | H4: RYZYKO PRZEJŚCIA | I4: RYZYKO ŚRODOWISKOWE | K4: RYZYKO | L4: PUNKTACJA | M4: PRZEDZIAŁ | N4: POZIOM RYZYKA | P4: RYZYKO | Q4: PUNKTACJA | R4: PRZEDZIAŁ | S4: POZIOM RYZYKA
E5: podwyższonego ryzyka ESG | F5: 2 | G5: =IF(MID('ankieta ESG'!G11,1,31)="PKD o potencjalnie podwyższonym",F5,"") | H5: RYZYKO PRZEJŚCIA | I5: RYZYKO ŚRODOWISKOWE | K5: RYZYKO FIZYCZNE | L5: 2 | M5: 2 | N5: NISKIE | P5: RYZYKO FIZYCZNE | Q5: 2 | R5: 2 | S5: NISKIE
E6: wysokiego ryzyka ESG | F6: 4 | G6: =IF(MID('ankieta ESG'!G11,1,26)="PKD o potencjalnie wysokim",F6,"") | H6: RYZYKO PRZEJŚCIA | I6: RYZYKO ŚRODOWISKOWE | K6: RYZYKO FIZYCZNE | L6: 3 | M6: 3 | N6: UMIARKOWANE | P6: RYZYKO FIZYCZNE | Q6: 3 | R6: 3 | S6: UMIARKOWANE
B7: 2 | C7: emisje zakres 1 (wynik z pytań 4-14) | E7: poniżej średniej | F7: 0 | G7: =IF(OR('ankieta ESG'!J106="",'ankieta ESG'!M106=""),"",IF('ankieta ESG'!J106<'ankieta ESG'!M106,F7,"")) | H7: RYZYKO PRZEJŚCIA | I7: RYZYKO ŚRODOWISKOWE | K7: RYZYKO FIZYCZNE | L7: 5 | M7: 5 | N7: PODWYŻSZONE | P7: RYZYKO FIZYCZNE | Q7: 5 | R7: 5 | S7: PODWYŻSZONE
E8: średnia | F8: 1 | G8: =IF(OR('ankieta ESG'!J106="",'ankieta ESG'!M106=""),"",IF('ankieta ESG'!J106='ankieta ESG'!M106,F8,"")) | H8: RYZYKO PRZEJŚCIA | I8: RYZYKO ŚRODOWISKOWE | K8: RYZYKO PRZEJŚCIA | L8: 1-6 | M8: 1 | N8: NISKIE | P8: RYZYKO PRZEJŚCIA | Q8: 4-7 | R8: 4 | S8: NISKIE
E9: powyżej średniej | F9: 2 | G9: =IF(OR('ankieta ESG'!J106="",'ankieta ESG'!M106=""),"",IF('ankieta ESG'!J106>'ankieta ESG'!M106,F9,"")) | H9: RYZYKO PRZEJŚCIA | I9: RYZYKO ŚRODOWISKOWE | K9: RYZYKO PRZEJŚCIA | L9: 7-12 | M9: 7 | N9: UMIARKOWANE | P9: RYZYKO PRZEJŚCIA | Q9: 8-13 | R9: 8 | S9: UMIARKOWANE
B10: 3 | C10: emisje zakres 2 (wynik z pytań 15-21) | E10: poniżej średniej | F10: 0 | G10: =IF(OR('ankieta ESG'!J134="",'ankieta ESG'!M134=""),"",IF('ankieta ESG'!J134<'ankieta ESG'!M134,F10,"")) | H10: RYZYKO PRZEJŚCIA | I10: RYZYKO ŚRODOWISKOWE | K10: RYZYKO PRZEJŚCIA | L10: 13-14 | M10: 13 | N10: PODWYŻSZONE | P10: RYZYKO PRZEJŚCIA | Q10: 14-15 | R10: 14 | S10: PODWYŻSZONE
E11: średnia | F11: 1 | G11: =IF(OR('ankieta ESG'!J134="",'ankieta ESG'!M134=""),"",IF('ankieta ESG'!J134='ankieta ESG'!M134,F11,"")) | H11: RYZYKO PRZEJŚCIA | I11: RYZYKO ŚRODOWISKOWE | K11: RYZYKO PRZEJŚCIA | L11: 15-16 | M11: 15 | N11: WYSOKIE | P11: RYZYKO PRZEJŚCIA | Q11: 16-18 | R11: 16 | S11: WYSOKIE
E12: powyżej średniej | F12: 2 | G12: =IF(OR('ankieta ESG'!J134="",'ankieta ESG'!M134=""),"",IF('ankieta ESG'!J134>'ankieta ESG'!M134,F12,"")) | H12: RYZYKO PRZEJŚCIA | I12: RYZYKO ŚRODOWISKOWE | K12: RYZYKO BIORÓŻNORODNOŚCI | L12: BRAK | M12: BRAK | N12: BRAK | P12: RYZYKO BIORÓŻNORODNOŚCI | Q12: 1 | R12: 1 | S12: NISKIE
B13: 4 | C13: emisje zakres 2 pyt. dot. oze (pyt. 20) | E13: pyt. 20 "TAK" (produkuje) | F13: 0 | G13: =IF('ankieta ESG'!O131="TAK","",IF('ankieta ESG'!J126="TAK",F13,"")) | H13: RYZYKO PRZEJŚCIA | I13: RYZYKO ŚRODOWISKOWE | K13: RYZYKO BIORÓŻNORODNOŚCI | L13: BRAK | M13: BRAK | N13: BRAK | P13: RYZYKO BIORÓŻNORODNOŚCI | Q13: 2 | R13: 2 | S13: UMIARKOWANE
E14: pyt. 20 "NIE" (nie produkuje) | F14: 1 | G14: =IF('ankieta ESG'!J126="NIE",F14,"") | H14: RYZYKO PRZEJŚCIA | I14: RYZYKO ŚRODOWISKOWE | K14: RYZYKO BIORÓŻNORODNOŚCI | L14: BRAK | M14: BRAK | N14: BRAK | P14: RYZYKO BIORÓŻNORODNOŚCI | Q14: 3 | R14: 3 | S14: PODWYŻSZONE
B15: 5 | C15: branże wykluczone (pyt. 25-28) | E15: wszystkie pyt. 25-28 "NIE" | F15: 1 | G15: =IF(AND('ankieta ESG'!J163="NIE",'ankieta ESG'!J165="NIE",'ankieta ESG'!J167="NIE",'ankieta ESG'!J169="NIE"),F15,"") | H15: RYZYKO PRZEJŚCIA | I15: RYZYKO ŚRODOWISKOWE | K15: RYZYKO ŚRODOWISKOWE | L15: 3-8 | M15: 3 | N15: NISKIE | P15: RYZYKO ŚRODOWISKOWE | Q15: 7-10 | R15: 7 | S15: NISKIE
E16: min. jedno pyt. 25-28 "TAK" | F16: 2 | G16: =IF(OR('ankieta ESG'!J163="TAK",'ankieta ESG'!J165="TAK",'ankieta ESG'!J167="TAK",'ankieta ESG'!J169="TAK"),F16,"") | H16: RYZYKO PRZEJŚCIA | I16: RYZYKO ŚRODOWISKOWE | K16: RYZYKO ŚRODOWISKOWE | L16: 9-15 | M16: 9 | N16: UMIARKOWANE | P16: RYZYKO ŚRODOWISKOWE | Q16: 11-18 | R16: 11 | S16: UMIARKOWANE
B17: 6 | C17: ryzyko fizyczne adres (pyt. 29) | E17: pyt. 29 brak gmin o wysokim ryzyku | F17: 1 | G17: =IF(COUNTBLANK('ankieta ESG'!$M$180:$M$189)=10,"",IF(COUNTIF('ankieta ESG'!M180:M189,"TAK")=0,F17,"")) | H17: RYZYKO FIZYCZNE | I17: RYZYKO ŚRODOWISKOWE | K17: RYZYKO ŚRODOWISKOWE | L17: 16-19 | M17: 16 | N17: PODWYŻSZONE | P17: RYZYKO ŚRODOWISKOWE | Q17: 19-23 | R17: 19 | S17: PODWYŻSZONE
E18: pyt. 29 minimum 1 gmina o wysokim ryzyku | F18: 2 | G18: =IF(COUNTBLANK('ankieta ESG'!$M$180:$M$189)=10,"",IF(COUNTIF('ankieta ESG'!M180:M189,"TAK")>0,F18,"")) | H18: RYZYKO FIZYCZNE | I18: RYZYKO ŚRODOWISKOWE | K18: RYZYKO ŚRODOWISKOWE | L18: 20-21 | M18: 20 | N18: WYSOKIE | P18: RYZYKO ŚRODOWISKOWE | Q18: 24-26 | R18: 24 | S18: WYSOKIE
B19: 7 | C19: ryzyko fizyczne straty (pyt. 30) | E19: pyt. 30 "NIE" | F19: 1 | G19: =IF('ankieta ESG'!J193="NIE",F19,"") | H19: RYZYKO FIZYCZNE | I19: RYZYKO ŚRODOWISKOWE | K19: RYZYKO SPOŁECZNE | L19: 4 | M19: 4 | N19: NISKIE | P19: RYZYKO SPOŁECZNE | Q19: 4-5 | R19: 4 | S19: NISKIE
E20: pyt. 30 "TAK" | F20: 3 | G20: =IF('ankieta ESG'!J193="TAK",F20,"") | H20: RYZYKO FIZYCZNE | I20: RYZYKO ŚRODOWISKOWE | K20: RYZYKO SPOŁECZNE | L20: 5-6 | M20: 5 | N20: UMIARKOWANE | P20: RYZYKO SPOŁECZNE | Q20: 6-8 | R20: 6 | S20: UMIARKOWANE
B21: 8 | C21: czy spełnia minimalne gwarancje społeczne (pyt. 32) | D21: DUŻY | E21: pyt. 32 "TAK (ujawnienia NIEweryfikowane przez audytora zewnętrznego)" lub pyt. 31 "NIE" | F21: 0 | G21: =IF(OR('ankieta ESG'!J205="TAK (ujawnienia NIEweryfikowane przez audytora zewnętrznego)",'ankieta ESG'!J203="NIE"),F21,"") | H21: RYZYKO SPOŁECZNE | I21: RYZYKO SPOŁECZNE | K21: RYZYKO SPOŁECZNE | L21: 7-27 | M21: 7 | N21: WYSOKIE | P21: RYZYKO SPOŁECZNE | Q21: 9-29 | R21: 9 | S21: WYSOKIE
E22: pyt. 32 "TAK (ujawnienia weryfikowane przez audytora zewnętrznego)" | F22: 2 | G22: =IF('ankieta ESG'!J205="TAK (ujawnienia weryfikowane przez audytora zewnętrznego)",F22,"") | H22: RYZYKO SPOŁECZNE | I22: RYZYKO SPOŁECZNE | K22: RYZYKO ESG ŁĄCZNIE | L22: wybieramy najgorszą opcję z 2 powyższych | P22: RYZYKO ESG ŁĄCZNIE | Q22: wybieramy najgorszą opcję z 2 powyższych
E23: pyt. 32 "NIE (nie spełniamy minimalnych gwarancji)" | F23: 10 | G23: =IF('ankieta ESG'!J205="NIE (nie spełniamy minimalnych gwarancji)",F23,"") | H23: RYZYKO SPOŁECZNE | I23: RYZYKO SPOŁECZNE
B24: 9 | C24: identyfikacja kontrowersji (pyt. 33) | D24: każdy MŚP + duży z pyt. 32 "TAK (ujawnienia NIEweryfikowane przez audytora zewnętrznego)" + duży z pyt. 31 "NIE" | E24: pyt. 33 "NIE" | F24: 1 | G24: =IF(OR(AND('ankieta ESG'!O18="TAK",'ankieta ESG'!J209="NIE"),AND('ankieta ESG'!O17="TAK",'ankieta ESG'!J205="TAK (ujawnienia NIEweryfikowane przez audytora zewnętrznego)",'ankieta ESG'!J209="NIE"),AND('ankieta ESG'!O17="TAK",'ankieta ESG'!J203="NIE",'ankieta ESG'!J209="NIE")),ocena!F24,"") | H24: RYZYKO SPOŁECZNE | I24: RYZYKO SPOŁECZNE
E25: pyt. 33 "TAK" | F25: 5 | G25: =IF(OR(AND('ankieta ESG'!O18="TAK",'ankieta ESG'!J209="TAK"),AND('ankieta ESG'!O17="TAK",'ankieta ESG'!J205="TAK (ujawnienia NIEweryfikowane przez audytora zewnętrznego)",'ankieta ESG'!J209="TAK"),AND('ankieta ESG'!O17="TAK",'ankieta ESG'!J203="NIE",'ankieta ESG'!J209="TAK")),ocena!F25,"") | H25: RYZYKO SPOŁECZNE | I25: RYZYKO SPOŁECZNE | K25: TYP KLIENTA | L25: MIKRO/MŚP | M25: DUŻY
B26: 10 | C26: identyfikacja kontrowersji (pyt. 34) | D26: każdy MŚP + duży z pyt. 32 "TAK (ujawnienia NIEweryfikowane przez audytora zewnętrznego)" + duży z pyt. 31 "NIE" | E26: pyt. 34 "NIE" | F26: 1 | G26: =IF(OR(AND('ankieta ESG'!O18="TAK",'ankieta ESG'!J211="NIE"),AND('ankieta ESG'!O17="TAK",'ankieta ESG'!J205="TAK (ujawnienia NIEweryfikowane przez audytora zewnętrznego)",'ankieta ESG'!J211="NIE"),AND('ankieta ESG'!O17="TAK",'ankieta ESG'!J203="NIE",'ankieta ESG'!J211="NIE")),ocena!F26,"") | H26: RYZYKO SPOŁECZNE | I26: RYZYKO SPOŁECZNE | K26: TAK/NIE | L26: ='ankieta ESG'!O18 | M26: ='ankieta ESG'!O17
E27: pyt. 34 "TAK" | F27: 5 | G27: =IF(OR(AND('ankieta ESG'!O18="TAK",'ankieta ESG'!J211="TAK"),AND('ankieta ESG'!O17="TAK",'ankieta ESG'!J205="TAK (ujawnienia NIEweryfikowane przez audytora zewnętrznego)",'ankieta ESG'!J211="TAK"),AND('ankieta ESG'!O17="TAK",'ankieta ESG'!J203="NIE",'ankieta ESG'!J211="TAK")),ocena!F27,"") | H27: RYZYKO SPOŁECZNE | I27: RYZYKO SPOŁECZNE
B28: 11 | C28: zapobieganie dyskryminacji (pyt. 37) | D28: pracownicy (zależność 35 i 32) | E28: pyt. 37 "TAK" | F28: 0 | G28: =IF('ankieta ESG'!J219="TAK",F28,"") | H28: RYZYKO SPOŁECZNE | I28: RYZYKO SPOŁECZNE | K28: RYZYKO | L28: WYNIKI | M28: POZIOM RYZYKA
E29: pyt. 37 "NIE" | F29: 2 | G29: =IF('ankieta ESG'!J219="NIE",F29,"") | H29: RYZYKO SPOŁECZNE | I29: RYZYKO SPOŁECZNE | K29: RYZYKO FIZYCZNE | L29: =SUMIF($H$4:$H$49,K29,$G$4:$G$49) -> 0 | M29: =IF($L$26="TAK",IF(L29>=M5,VLOOKUP(L29,$M$5:$N$7,2,TRUE),""),IF($L$26="NIE",IF(L29>=R5,VLOOKUP(L29,$R$5:$S$7,2,TRUE),""),""))
B30: 12 | C30: Business and Human Rights (pyt. 1) | E30: pyt. 1 "NIE" | F30: 1 | G30: =IF('ankieta ESG'!J27="NIE",F30,"") | H30: RYZYKO SPOŁECZNE | I30: RYZYKO SPOŁECZNE | K30: RYZYKO PRZEJŚCIA | L30: =SUMIF($H$4:$H$49,K30,$G$4:$G$49) -> 0 | M30: =IF($L$26="TAK",IF(L30>=M8,VLOOKUP(L30,$M$8:$N$11,2,TRUE),""),IF($L$26="NIE",IF(L30>=R8,VLOOKUP(L30,$R$8:$S$11,2,TRUE),""),""))
E31: pyt. 1 "TAK" | F31: 5 | G31: =IF(AND('ankieta ESG'!J27="TAK",'ankieta ESG'!J30<>""),F31,"") | H31: RYZYKO SPOŁECZNE | I31: RYZYKO SPOŁECZNE | K31: RYZYKO BIORÓŻNORODNOŚCI | L31: =SUMIF($H$4:$H$49,K31,$G$4:$G$49) -> 0 | M31: =IF($L$26="TAK",IF(L31=0,"BRAK"),IF($L$26="NIE",IF(L31>=R12,VLOOKUP(L31,$R$12:$S$14,2,TRUE),""),""))
B32: 13 | C32: OECD (pyt. 3) | E32: pyt. 3 "NIE" | F32: 1 | G32: =IF('ankieta ESG'!J32="NIE",F32,"") | H32: RYZYKO SPOŁECZNE | I32: RYZYKO SPOŁECZNE | K32: RYZYKO ŚRODOWISKOWE | L32: =SUMIF($I$4:$I$49,K32,$G$4:$G$49) -> 0 | M32: =IF($L$26="TAK",IF(L32>=M15,VLOOKUP(L32,$M$15:$N$18,2,TRUE),""),IF($L$26="NIE",IF(L32>=R15,VLOOKUP(L32,$R$15:$S$18,2,TRUE),""),""))
E33: pyt. 3 "TAK" | F33: 5 | G33: =IF('ankieta ESG'!J32="TAK",F33,"") | H33: RYZYKO SPOŁECZNE | I33: RYZYKO SPOŁECZNE | K33: RYZYKO SPOŁECZNE | L33: =SUMIF($I$4:$I$49,K33,$G$4:$G$49) -> 0 | M33: =IF($L$26="TAK",IF(L33>=M19,VLOOKUP(L33,$M$19:$N$21,2,TRUE),""),IF($L$26="NIE",IF(L33>=R19,VLOOKUP(L33,$R$19:$S$21,2,TRUE),""),""))
B34: 14 | C34: przestrzeganie praw człowieka (pyt. 36) | D34: pracownicy (zależność 35 i 32) | E34: pyt. 36 "TAK" | F34: 0 | G34: =IF('ankieta ESG'!J217="TAK",F34,"") | H34: RYZYKO SPOŁECZNE | I34: RYZYKO SPOŁECZNE | K34: RYZYKO ESG ŁĄCZNIE | L34: =IF(OR(M32="",M33=""),"",IF(OR(M32="WYSOKIE",M33="WYSOKIE"),"WYSOKIE",IF(OR(M32="PODWYŻSZONE",M33="PODWYŻSZONE"),"PODWYŻSZONE",IF(OR(M32="UMIARKOWANE",M33="UMIARKOWANE"),"UMIARKOWANE",IF(OR(M32="NISKIE",M33="NISKIE"),"NISKIE")))))
E35: pyt. 36 "NIE" | F35: 5 | G35: =IF('ankieta ESG'!J217="NIE",F35,"") | H35: RYZYKO SPOŁECZNE | I35: RYZYKO SPOŁECZNE
B36: 15 | C36: wdrożone polityki (pyt. 38) | D36: DUŻY (zależność 32) | E36: pyt. 38 "TAK" | F36: 1 | G36: =IF('ankieta ESG'!J223="TAK",F36,"") | H36: RYZYKO SPOŁECZNE | I36: RYZYKO SPOŁECZNE | K36: SCENARIUSZE: KOMPLETNOŚĆ | L36: TAK/NIE | M36: TAK | N36: NIE | O36: WYNIK
E37: pyt. 38 "NIE" | F37: 2 | G37: =IF('ankieta ESG'!J223="NIE",F37,"") | H37: RYZYKO SPOŁECZNE | I37: RYZYKO SPOŁECZNE | K37: PKD EU ETS | L37: ='ankieta ESG'!O15 | M37: 0 | N37: -1 | O37: =IF(L37="TAK",M37,IF(L37="NIE",N37,""))
B38: 16 | C38: spadek zysku wystąpił (pyt. 39) | D38: PKD EU ETS | E38: pyt. 39 "NIE" | F38: 1 | G38: =IF('ankieta ESG'!J232="NIE",F38,"") | H38: RYZYKO PRZEJŚCIA | I38: RYZYKO ŚRODOWISKOWE | K38: pracownicy (zależność 35 i 32) | L38: =IF(OR('ankieta ESG'!J205="TAK (ujawnienia weryfikowane przez audytora zewnętrznego)",'ankieta ESG'!J205="NIE (nie spełniamy minimalnych gwarancji)",'ankieta ESG'!J215="NIE"),"NIE",IF('ankieta ESG'!J215="TAK","TAK","")) | M38: 0 | N38: -2 | O38: =IF(L38="TAK",M38,IF(L38="NIE",N38,""))
E39: pyt. 39 "TAK" | F39: 2 | G39: =IF('ankieta ESG'!J232="TAK",F39,"") | H39: RYZYKO PRZEJŚCIA | I39: RYZYKO ŚRODOWISKOWE | K39: DUŻY + MM Z PKD ↑ RYZ | L39: ='ankieta ESG'!O16 | M39: 0 | N39: -2 | O39: =IF(L39="TAK",M39,IF(L39="NIE",N39,""))
B40: 17 | C40: spadek zysku oczekiwany (pyt. 40) | D40: DUŻY + MM Z PKD ↑ RYZ | E40: pyt. 40 "NIE" | F40: 1 | G40: =IF('ankieta ESG'!J236="NIE",F40,"") | H40: RYZYKO PRZEJŚCIA | I40: RYZYKO ŚRODOWISKOWE | K40: każdy MŚP + duży z pyt. 32 "TAK (ujawnienia NIEweryfikowane przez audytora zewnętrznego)" + duży z pyt. 31 "NIE" | L40: =IF(SUM(G21:G27)=0,"",IF(COUNTIF(G24:G27,">0")>0,"TAK","NIE")) | M40: 0 | N40: -2 | O40: =IF(L40="TAK",M40,IF(L40="NIE",N40,""))
E41: pyt. 40 "TAK" | F41: 2 | G41: =IF('ankieta ESG'!J236="TAK",F41,"") | H41: RYZYKO PRZEJŚCIA | I41: RYZYKO ŚRODOWISKOWE | K41: DUŻY | L41: ='ankieta ESG'!O17 | M41: 0 | N41: -3 | O41: =IF(L41="TAK",M41,IF(L41="NIE",N41,""))
B42: 18 | C42: dekarbonizacja (pyt. 41) | D42: DUŻY + MM Z PKD ↑ RYZ | E42: pyt. 41 "TAK" | F42: 0 | G42: =IF('ankieta ESG'!J238="TAK",F42,"") | H42: RYZYKO PRZEJŚCIA | I42: RYZYKO ŚRODOWISKOWE | K42: DUŻY (zależność 32) | L42: =IF(OR('ankieta ESG'!O18="TAK",'ankieta ESG'!J205="TAK (ujawnienia weryfikowane przez audytora zewnętrznego)",'ankieta ESG'!J205="NIE (nie spełniamy minimalnych gwarancji)"),"NIE",IF('ankieta ESG'!J223<>"","TAK","")) | M42: 0 | N42: -1 | O42: =IF(L42="TAK",M42,IF(L42="NIE",N42,""))
...

Sheet listy
AM2: 1 (180) | AR2: 2 (181) | AW2: 3 (182) | BB2: 4 (183) | BG2: 5 (184) | BL2: 6 (185) | BQ2: 7 (186) | BV2: 8 (187) | CA2: 9 (188) | CF2: 10 (189)
B3: NUMER | C3: KOD PKD | D3: 0 | E3: {=OFFSET(listy!$E$4,,,COUNTIF(listy!$E$4:$E$1385,"?*"))} -> #VALUE! | F3: 0 | H3: PYTANIE (8) | I3: 0 | J3: 0 | K3: 0 | L3: 0 | M3: 0 | O3: PYTANIE (10) | P3: 0 | Q3: 0 | R3: 0 | S3: 0 | U3: PYTANIE (10) | V3: 0 | X3: PYTANIE (12) | Y3: 0 | AA3: PYTANIE (29) | AB3: 0 | AD3: PYTANIE (32) | AE3: 0 | AG3: PYTANIE (34) | AH3: 0 | AJ3: POPRAWNOŚĆ DANYCH | AK3: 0 | AM3: NUMER | AN3: PYTANIE (29) | AO3: 0 | AP3: {=OFFSET(listy!$AP$4,,,COUNTIF(listy!$AP$4:$AP$2337,"?*"))} -> #VALUE! | AQ3: 0 | AR3: NUMER | AS3: PYTANIE (29) | AT3: 0 | AU3: {=OFFSET(listy!$AU$4,,,COUNTIF(listy!$AU$4:$AU$2337,"?*"))} -> #VALUE! | AV3: 0 | AW3: NUMER | AX3: PYTANIE (29) | AY3: 0 | AZ3: {=OFFSET(listy!$AZ$4,,,COUNTIF(listy!$AZ$4:$AZ$2337,"?*"))} -> #VALUE! | BA3: 0 | BB3: NUMER | BC3: PYTANIE (29) | BD3: 0 | BE3: {=OFFSET(listy!$BE$4,,,COUNTIF(listy!$BE$4:$BE$2337,"?*"))} -> #VALUE! | BF3: 0 | BG3: NUMER | BH3: PYTANIE (29) | BI3: 0 | BJ3: {=OFFSET(listy!$BJ$4,,,COUNTIF(listy!$BJ$4:$BJ$2337,"?*"))} -> #VALUE! | BK3: 0 | BL3: NUMER | BM3: PYTANIE (29) | BN3: 0 | BO3: {=OFFSET(listy!$BO$4,,,COUNTIF(listy!$BO$4:$BO$2337,"?*"))} -> #VALUE! | BP3: 0 | BQ3: NUMER | BR3: PYTANIE (29) | BS3: 0 | BT3: {=OFFSET(listy!$BT$4,,,COUNTIF(listy!$BT$4:$BT$2337,"?*"))} -> #VALUE! | BU3: 0 | BV3: NUMER | BW3: PYTANIE (29) | BX3: 0 | BY3: {=OFFSET(listy!$BY$4,,,COUNTIF(listy!$BY$4:$BY$2337,"?*"))} -> #VALUE! | BZ3: 0 | CA3: NUMER | CB3: PYTANIE (29) | CC3: 0 | CD3: {=OFFSET(listy!$CD$4,,,COUNTIF(listy!$CD$4:$CD$2337,"?*"))} -> #VALUE! | CE3: 0 | CF3: NUMER | CG3: PYTANIE (29) | CH3: 0 | CI3: {=OFFSET(listy!$CI$4,,,COUNTIF(listy!$CI$4:$CI$2337,"?*"))} -> #VALUE! | CJ3: 0
B4: =IF(ISNUMBER(SEARCH('ankieta ESG'!$E$11,C4)),MAX(B$3:$B3)+1,0) -> 1 | C4: 01.11.Z Uprawa zbóż, roślin strączkowych i roślin oleistych na nasiona, z wyłączeniem ryżu (PKD 2007) | D4: 0 | E4: =IFERROR(VLOOKUP(ROWS($C$4:C4),$B$4:$C$1385,2,0),"") -> 01.11.Z Uprawa zbóż, roślin strączkowych i roślin oleistych na nasiona, z wyłączeniem ryżu (PKD 2007) | F4: 0 | H4: węgiel | I4: t | J4: m3 | M4: 0 | O4: Samochód do 3,5 tony | P4: Osobowy | Q4: km | S4: 0 | U4: Olej napędowy | V4: 0 | X4: Bydło | Y4: 0 | AA4: Zakład produkcyjny | AB4: 0 | AD4: TAK (ujawnienia weryfikowane przez audytora zewnętrznego) | AE4: 0 | AG4: TAK - i nie podjęto działań zaradczych lub nie jest to pierwszy incydent tego typu w badanym okresie mimo podejmowania działań zaradczych w przeszłości | AH4: 0 | AK4: 0 | AM4: =IF(ISNUMBER(SEARCH('ankieta ESG'!$G$180,AN4)),MAX(AM$3:$AM3)+1,0) -> 1 | AN4: Abramów (pow. lubartowski, woj. lubelskie) | AO4: 0 | AP4: =IFERROR(VLOOKUP(ROWS($AN$4:AN4),$AM$4:$AN$2337,2,0),"") -> Abramów (pow. lubartowski, woj. lubelskie) | AQ4: 0 | AR4: =IF(ISNUMBER(SEARCH('ankieta ESG'!$G$181,AS4)),MAX($AR$3:AR3)+1,0) -> 1 | AS4: Abramów (pow. lubartowski, woj. lubelskie) | AT4: 0 | AU4: =IFERROR(VLOOKUP(ROWS($AS$4:AS4),$AR$4:$AS$2337,2,0),"") -> Abramów (pow. lubartowski, woj. lubelskie) | AV4: 0 | AW4: =IF(ISNUMBER(SEARCH('ankieta ESG'!$G$182,AX4)),MAX($AW$3:AW3)+1,0) -> 1 | AX4: Abramów (pow. lubartowski, woj. lubelskie) | AY4: 0 | AZ4: =IFERROR(VLOOKUP(ROWS($AX$4:AX4),$AW$4:$AX$2337,2,0),"") -> Abramów (pow. lubartowski, woj. lubelskie) | BA4: 0 | BB4: =IF(ISNUMBER(SEARCH('ankieta ESG'!$G$183,BC4)),MAX($BB$3:BB3)+1,0) -> 1 | BC4: Abramów (pow. lubartowski, woj. lubelskie) | BD4: 0 | BE4: =IFERROR(VLOOKUP(ROWS($BC$4:BC4),$BB$4:$BC$2337,2,0),"") -> Abramów (pow. lubartowski, woj. lubelskie) | BF4: 0 | BG4: =IF(ISNUMBER(SEARCH('ankieta ESG'!$G$184,BH4)),MAX($BG$3:BG3)+1,0) -> 1 | BH4: Abramów (pow. lubartowski, woj. lubelskie) | BI4: 0 | BJ4: =IFERROR(VLOOKUP(ROWS($BH$4:BH4),$BG$4:$BH$2337,2,0),"") -> Abramów (pow. lubartowski, woj. lubelskie) | BK4: 0 | BL4: =IF(ISNUMBER(SEARCH('ankieta ESG'!$G$185,BM4)),MAX($BL$3:BL3)+1,0) -> 1 | BM4: Abramów (pow. lubartowski, woj. lubelskie) | BN4: 0 | BO4: =IFERROR(VLOOKUP(ROWS($BM$4:BM4),$BL$4:$BM$2337,2,0),"") -> Abramów (pow. lubartowski, woj. lubelskie) | BP4: 0 | BQ4: =IF(ISNUMBER(SEARCH('ankieta ESG'!$G$186,BR4)),MAX($BQ$3:BQ3)+1,0) -> 1 | BR4: Abramów (pow. lubartowski, woj. lubelskie) | BS4: 0 | BT4: =IFERROR(VLOOKUP(ROWS($BR$4:BR4),$BQ$4:$BR$2337,2,0),"") -> Abramów (pow. lubartowski, woj. lubelskie) | BU4: 0 | BV4: =IF(ISNUMBER(SEARCH('ankieta ESG'!$G$187,BW4)),MAX($BV$3:BV3)+1,0) -> 1 | BW4: Abramów (pow. lubartowski, woj. lubelskie) | BX4: 0 | BY4: =IFERROR(VLOOKUP(ROWS($BW$4:BW4),$BV$4:$BW$2337,2,0),"") -> Abramów (pow. lubartowski, woj. lubelskie) | BZ4: 0 | CA4: =IF(ISNUMBER(SEARCH('ankieta ESG'!$G$188,CB4)),MAX($CA$3:CA3)+1,0) -> 1 | CB4: Abramów (pow. lubartowski, woj. lubelskie) | CC4: 0 | CD4: =IFERROR(VLOOKUP(ROWS($CB$4:CB4),$CA$4:$CB$2337,2,0),"") -> Abramów (pow. lubartowski, woj. lubelskie) | CE4: 0 | CF4: =IF(ISNUMBER(SEARCH('ankieta ESG'!$G$189,CG4)),MAX($CF$3:CF3)+1,0) -> 1 | CG4: Abramów (pow. lubartowski, woj. lubelskie) | CH4: 0 | CI4: =IFERROR(VLOOKUP(ROWS($CG$4:CG4),$CF$4:$CG$2337,2,0),"") -> Abramów (pow. lubartowski, woj. lubelskie) | CJ4: 0
B5: =IF(ISNUMBER(SEARCH('ankieta ESG'!$E$11,C5)),MAX(B$3:$B4)+1,0) -> 2 | C5: 01.12.Z Uprawa ryżu (PKD 2007) | D5: 0 | E5: =IFERROR(VLOOKUP(ROWS($C$4:C5),$B$4:$C$1385,2,0),"") -> 01.12.Z Uprawa ryżu (PKD 2007) | F5: 0 | H5: drewno | I5: t | J5: m3 | M5: 0 | O5: Samochód ciężarowy pow. 3,5 tony | P5: Ciężarowy | Q5: km | R5: motogodziny | S5: 0 | U5: Benzyna | V5: 0 | X5: Trzoda chlewna | Y5: 0 | AA5: Biuro | AB5: 0 | AD5: TAK (ujawnienia NIEweryfikowane przez audytora zewnętrznego) | AE5: 0 | AG5: TAK - i podjęto odpowiednie działania zaradcze mające na celu zapewnienie, że mało prawdopodobne będzie ponowne naruszenie praw pracy w przyszłości | AH5: 0 | AJ5: Wybierz opcję z listy! | AK5: 0 | AM5: =IF(ISNUMBER(SEARCH('ankieta ESG'!$G$180,AN5)),MAX(AM$3:$AM4)+1,0) -> 2 | AN5: Adamów (pow. łukowski, woj. lubelskie) | AO5: 0 | AP5: =IFERROR(VLOOKUP(ROWS($AN$4:AN5),$AM$4:$AN$2337,2,0),"") -> Adamów (pow. łukowski, woj. lubelskie) | AQ5: 0 | AR5: =IF(ISNUMBER(SEARCH('ankieta ESG'!$G$181,AS5)),MAX($AR$3:AR4)+1,0) -> 2 | AS5: Adamów (pow. łukowski, woj. lubelskie) | AT5: 0 | AU5: =IFERROR(VLOOKUP(ROWS($AS$4:AS5),$AR$4:$AS$2337,2,0),"") -> Adamów (pow. łukowski, woj. lubelskie) | AV5: 0 | AW5: =IF(ISNUMBER(SEARCH('ankieta ESG'!$G$182,AX5)),MAX($AW$3:AW4)+1,0) -> 2 | AX5: Adamów (pow. łukowski, woj. lubelskie) | AY5: 0 | AZ5: =IFERROR(VLOOKUP(ROWS($AX$4:AX5),$AW$4:$AX$2337,2,0),"") -> Adamów (pow. łukowski, woj. lubelskie) | BA5: 0 | BB5: =IF(ISNUMBER(SEARCH('ankieta ESG'!$G$183,BC5)),MAX($BB$3:BB4)+1,0) -> 2 | BC5: Adamów (pow. łukowski, woj. lubelskie) | BD5: 0 | BE5: =IFERROR(VLOOKUP(ROWS($BC$4:BC5),$BB$4:$BC$2337,2,0),"") -> Adamów (pow. łukowski, woj. lubelskie) | BF5: 0 | BG5: =IF(ISNUMBER(SEARCH('ankieta ESG'!$G$184,BH5)),MAX($BG$3:BG4)+1,0) -> 2 | BH5: Adamów (pow. łukowski, woj. lubelskie) | BI5: 0 | BJ5: =IFERROR(VLOOKUP(ROWS($BH$4:BH5),$BG$4:$BH$2337,2,0),"") -> Adamów (pow. łukowski, woj. lubelskie) | BK5: 0 | BL5: =IF(ISNUMBER(SEARCH('ankieta ESG'!$G$185,BM5)),MAX($BL$3:BL4)+1,0) -> 2 | BM5: Adamów (pow. łukowski, woj. lubelskie) | BN5: 0 | BO5: =IFERROR(VLOOKUP(ROWS($BM$4:BM5),$BL$4:$BM$2337,2,0),"") -> Adamów (pow. łukowski, woj. lubelskie) | BP5: 0 | BQ5: =IF(ISNUMBER(SEARCH('ankieta ESG'!$G$186,BR5)),MAX($BQ$3:BQ4)+1,0) -> 2 | BR5: Adamów (pow. łukowski, woj. lubelskie) | BS5: 0 | BT5: =IFERROR(VLOOKUP(ROWS($BR$4:BR5),$BQ$4:$BR$2337,2,0),"") -> Adamów (pow. łukowski, woj. lubelskie) | BU5: 0 | BV5: =IF(ISNUMBER(SEARCH('ankieta ESG'!$G$187,BW5)),MAX($BV$3:BV4)+1,0) -> 2 | BW5: Adamów (pow. łukowski, woj. lubelskie) | BX5: 0 | BY5: =IFERROR(VLOOKUP(ROWS($BW$4:BW5),$BV$4:$BW$2337,2,0),"") -> Adamów (pow. łukowski, woj. lubelskie) | BZ5: 0 | CA5: =IF(ISNUMBER(SEARCH('ankieta ESG'!$G$188,CB5)),MAX($CA$3:CA4)+1,0) -> 2 | CB5: Adamów (pow. łukowski, woj. lubelskie) | CC5: 0 | CD5: =IFERROR(VLOOKUP(ROWS($CB$4:CB5),$CA$4:$CB$2337,2,0),"") -> Adamów (pow. łukowski, woj. lubelskie) | CE5: 0 | CF5: =IF(ISNUMBER(SEARCH('ankieta ESG'!$G$189,CG5)),MAX($CF$3:CF4)+1,0) -> 2 | CG5: Adamów (pow. łukowski, woj. lubelskie) | CH5: 0 | CI5: =IFERROR(VLOOKUP(ROWS($CG$4:CG5),$CF$4:$CG$2337,2,0),"") -> Adamów (pow. łukowski, woj. lubelskie) | CJ5: 0
B6: =IF(ISNUMBER(SEARCH('ankieta ESG'!$E$11,C6)),MAX(B$3:$B5)+1,0) -> 3 | C6: 01.13.Z Uprawa warzyw, włączając melony oraz uprawa roślin korzeniowych i roślin bulwiastych (PKD 2007) | D6: 0 | E6: =IFERROR(VLOOKUP(ROWS($C$4:C6),$B$4:$C$1385,2,0),"") -> 01.13.Z Uprawa warzyw, włączając melony oraz uprawa roślin korzeniowych i roślin bulwiastych (PKD 2007) | F6: 0 | H6: olej opałowy | I6: t | J6: l | K6: m3 | M6: 0 | O6: Maszyna rolnicza | P6: Rolnicza | Q6: km | R6: motogodziny | S6: 0 | U6: LPG | V6: 0 | X6: Drób | Y6: 0 | AA6: Gospodarstwo rolne | AB6: 0 | AD6: NIE (nie spełniamy minimalnych gwarancji) | AE6: 0 | AG6: NIE - nie wystąpiły przypadki naruszeń dot. któregokolwiek z powyższych zagadnień | AH6: 0 | AJ6: wybierz z listy | AK6: 0 | AM6: =IF(ISNUMBER(SEARCH('ankieta ESG'!$G$180,AN6)),MAX(AM$3:$AM5)+1,0) -> 3 | AN6: Adamów (pow. zamojski, woj. lubelskie) | AO6: 0 | AP6: =IFERROR(VLOOKUP(ROWS($AN$4:AN6),$AM$4:$AN$2337,2,0),"") -> Adamów (pow. zamojski, woj. lubelskie) | AQ6: 0 | AR6: =IF(ISNUMBER(SEARCH('ankieta ESG'!$G$181,AS6)),MAX($AR$3:AR5)+1,0) -> 3 | AS6: Adamów (pow. zamojski, woj. lubelskie) | AT6: 0 | AU6: =IFERROR(VLOOKUP(ROWS($AS$4:AS6),$AR$4:$AS$2337,2,0),"") -> Adamów (pow. zamojski, woj. lubelskie) | AV6: 0 | AW6: =IF(ISNUMBER(SEARCH('ankieta ESG'!$G$182,AX6)),MAX($AW$3:AW5)+1,0) -> 3 | AX6: Adamów (pow. zamojski, woj. lubelskie) | AY6: 0 | AZ6: =IFERROR(VLOOKUP(ROWS($AX$4:AX6),$AW$4:$AX$2337,2,0),"") -> Adamów (pow. zamojski, woj. lubelskie) | BA6: 0 | BB6: =IF(ISNUMBER(SEARCH('ankieta ESG'!$G$183,BC6)),MAX($BB$3:BB5)+1,0) -> 3 | BC6: Adamów (pow. zamojski, woj. lubelskie) | BD6: 0 | BE6: =IFERROR(VLOOKUP(ROWS($BC$4:BC6),$BB$4:$BC$2337,2,0),"") -> Adamów (pow. zamojski, woj. lubelskie) | BF6: 0 | BG6: =IF(ISNUMBER(SEARCH('ankieta ESG'!$G$184,BH6)),MAX($BG$3:BG5)+1,0) -> 3 | BH6: Adamów (pow. zamojski, woj. lubelskie) | BI6: 0 | BJ6: =IFERROR(VLOOKUP(ROWS($BH$4:BH6),$BG$4:$BH$2337,2,0),"") -> Adamów (pow. zamojski, woj. lubelskie) | BK6: 0 | BL6: =IF(ISNUMBER(SEARCH('ankieta ESG'!$G$185,BM6)),MAX($BL$3:BL5)+1,0) -> 3 | BM6: Adamów (pow. zamojski, woj. lubelskie) | BN6: 0 | BO6: =IFERROR(VLOOKUP(ROWS($BM$4:BM6),$BL$4:$BM$2337,2,0),"") -> Adamów (pow. zamojski, woj. lubelskie) | BP6: 0 | BQ6: =IF(ISNUMBER(SEARCH('ankieta ESG'!$G$186,BR6)),MAX($BQ$3:BQ5)+1,0) -> 3 | BR6: Adamów (pow. zamojski, woj. lubelskie) | BS6: 0 | BT6: =IFERROR(VLOOKUP(ROWS($BR$4:BR6),$BQ$4:$BR$2337,2,0),"") -> Adamów (pow. zamojski, woj. lubelskie) | BU6: 0 | BV6: =IF(ISNUMBER(SEARCH('ankieta ESG'!$G$187,BW6)),MAX($BV$3:BV5)+1,0) -> 3 | BW6: Adamów (pow. zamojski, woj. lubelskie) | BX6: 0 | BY6: =IFERROR(VLOOKUP(ROWS($BW$4:BW6),$BV$4:$BW$2337,2,0),"") -> Adamów (pow. zamojski, woj. lubelskie) | BZ6: 0 | CA6: =IF(ISNUMBER(SEARCH('ankieta ESG'!$G$188,CB6)),MAX($CA$3:CA5)+1,0) -> 3 | CB6: Adamów (pow. zamojski, woj. lubelskie) | CC6: 0 | CD6: =IFERROR(VLOOKUP(ROWS($CB$4:CB6),$CA$4:$CB$2337,2,0),"") -> Adamów (pow. zamojski, woj. lubelskie) | CE6: 0 | CF6: =IF(ISNUMBER(SEARCH('ankieta ESG'!$G$189,CG6)),MAX($CF$3:CF5)+1,0) -> 3 | CG6: Adamów (pow. zamojski, woj. lubelskie) | CH6: 0 | CI6: =IFERROR(VLOOKUP(ROWS($CG$4:CG6),$CF$4:$CG$2337,2,0),"") -> Adamów (pow. zamojski, woj. lubelskie) | CJ6: 0
B7: =IF(ISNUMBER(SEARCH('ankieta ESG'!$E$11,C7)),MAX(B$3:$B6)+1,0) -> 4 | C7: 01.14.Z Uprawa trzciny cukrowej (PKD 2007) | D7: 0 | E7: =IFERROR(VLOOKUP(ROWS($C$4:C7),$B$4:$C$1385,2,0),"") -> 01.14.Z Uprawa trzciny cukrowej (PKD 2007) | F7: 0 | H7: gaz | I7: t | J7: m3 | M7: 0 | U7: Hybrydowy | V7: 0 | X7: Kozy / owce | Y7: 0 | AA7: Inne | AB7: 0 | AK7: 0 | AM7: =IF(ISNUMBER(SEARCH('ankieta ESG'!$G$180,AN7)),MAX(AM$3:$AM6)+1,0) -> 4 | AN7: Adamówka (pow. przeworski, woj. podkarpackie) | AO7: 0 | AP7: =IFERROR(VLOOKUP(ROWS($AN$4:AN7),$AM$4:$AN$2337,2,0),"") -> Adamówka (pow. przeworski, woj. podkarpackie) | AQ7: 0 | AR7: =IF(ISNUMBER(SEARCH('ankieta ESG'!$G$181,AS7)),MAX($AR$3:AR6)+1,0) -> 4 | AS7: Adamówka (pow. przeworski, woj. podkarpackie) | AT7: 0 | AU7: =IFERROR(VLOOKUP(ROWS($AS$4:AS7),$AR$4:$AS$2337,2,0),"") -> Adamówka (pow. przeworski, woj. podkarpackie) | AV7: 0 | AW7: =IF(ISNUMBER(SEARCH('ankieta ESG'!$G$182,AX7)),MAX($AW$3:AW6)+1,0) -> 4 | AX7: Adamówka (pow. przeworski, woj. podkarpackie) | AY7: 0 | AZ7: =IFERROR(VLOOKUP(ROWS($AX$4:AX7),$AW$4:$AX$2337,2,0),"") -> Adamówka (pow. przeworski, woj. podkarpackie) | BA7: 0 | BB7: =IF(ISNUMBER(SEARCH('ankieta ESG'!$G$183,BC7)),MAX($BB$3:BB6)+1,0) -> 4 | BC7: Adamówka (pow. przeworski, woj. podkarpackie) | BD7: 0 | BE7: =IFERROR(VLOOKUP(ROWS($BC$4:BC7),$BB$4:$BC$2337,2,0),"") -> Adamówka (pow. przeworski, woj. podkarpackie) | BF7: 0 | BG7: =IF(ISNUMBER(SEARCH('ankieta ESG'!$G$184,BH7)),MAX($BG$3:BG6)+1,0) -> 4 | BH7: Adamówka (pow. przeworski, woj. podkarpackie) | BI7: 0 | BJ7: =IFERROR(VLOOKUP(ROWS($BH$4:BH7),$BG$4:$BH$2337,2,0),"") -> Adamówka (pow. przeworski, woj. podkarpackie) | BK7: 0 | BL7: =IF(ISNUMBER(SEARCH('ankieta ESG'!$G$185,BM7)),MAX($BL$3:BL6)+1,0) -> 4 | BM7: Adamówka (pow. przeworski, woj. podkarpackie) | BN7: 0 | BO7: =IFERROR(VLOOKUP(ROWS($BM$4:BM7),$BL$4:$BM$2337,2,0),"") -> Adamówka (pow. przeworski, woj. podkarpackie) | BP7: 0 | BQ7: =IF(ISNUMBER(SEARCH('ankieta ESG'!$G$186,BR7)),MAX($BQ$3:BQ6)+1,0) -> 4 | BR7: Adamówka (pow. przeworski, woj. podkarpackie) | BS7: 0 | BT7: =IFERROR(VLOOKUP(ROWS($BR$4:BR7),$BQ$4:$BR$2337,2,0),"") -> Adamówka (pow. przeworski, woj. podkarpackie) | BU7: 0 | BV7: =IF(ISNUMBER(SEARCH('ankieta ESG'!$G$187,BW7)),MAX($BV$3:BV6)+1,0) -> 4 | BW7: Adamówka (pow. przeworski, woj. podkarpackie) | BX7: 0 | BY7: =IFERROR(VLOOKUP(ROWS($BW$4:BW7),$BV$4:$BW$2337,2,0),"") -> Adamówka (pow. przeworski, woj. podkarpackie) | BZ7: 0 | CA7: =IF(ISNUMBER(SEARCH('ankieta ESG'!$G$188,CB7)),MAX($CA$3:CA6)+1,0) -> 4 | CB7: Adamówka (pow. przeworski, woj. podkarpackie) | CC7: 0 | CD7: =IFERROR(VLOOKUP(ROWS($CB$4:CB7),$CA$4:$CB$2337,2,0),"") -> Adamówka (pow. przeworski, woj. podkarpackie) | CE7: 0 | CF7: =IF(ISNUMBER(SEARCH('ankieta ESG'!$G$189,CG7)),MAX($CF$3:CF6)+1,0) -> 4 | CG7: Adamówka (pow. przeworski, woj. podkarpackie) | CH7: 0 | CI7: =IFERROR(VLOOKUP(ROWS($CG$4:CG7),$CF$4:$CG$2337,2,0),"") -> Adamówka (pow. przeworski, woj. podkarpackie) | CJ7: 0
B8: =IF(ISNUMBER(SEARCH('ankieta ESG'!$E$11,C8)),MAX(B$3:$B7)+1,0) -> 5 | C8: 01.15.Z Uprawa tytoniu (PKD 2007) | D8: 0 | E8: =IFERROR(VLOOKUP(ROWS($C$4:C8),$B$4:$C$1385,2,0),"") -> 01.15.Z Uprawa tytoniu (PKD 2007) | F8: 0 | H8: biomasa | I8: t | J8: kg | M8: 0 | U8: Elektryczny | V8: 0 | X8: Konie | Y8: 0 | AJ8: Wprowadź prawidłową wartość liczbową! | AK8: 0 | AM8: =IF(ISNUMBER(SEARCH('ankieta ESG'!$G$180,AN8)),MAX(AM$3:$AM7)+1,0) -> 5 | AN8: Aleksandrów (pow. biłgorajski, woj. lubelskie) | AO8: 0 | AP8: =IFERROR(VLOOKUP(ROWS($AN$4:AN8),$AM$4:$AN$2337,2,0),"") -> Aleksandrów (pow. biłgorajski, woj. lubelskie) | AQ8: 0 | AR8: =IF(ISNUMBER(SEARCH('ankieta ESG'!$G$181,AS8)),MAX($AR$3:AR7)+1,0) -> 5 | AS8: Aleksandrów (pow. biłgorajski, woj. lubelskie) | AT8: 0 | AU8: =IFERROR(VLOOKUP(ROWS($AS$4:AS8),$AR$4:$AS$2337,2,0),"") -> Aleksandrów (pow. biłgorajski, woj. lubelskie) | AV8: 0 | AW8: =IF(ISNUMBER(SEARCH('ankieta ESG'!$G$182,AX8)),MAX($AW$3:AW7)+1,0) -> 5 | AX8: Aleksandrów (pow. biłgorajski, woj. lubelskie) | AY8: 0 | AZ8: =IFERROR(VLOOKUP(ROWS($AX$4:AX8),$AW$4:$AX$2337,2,0),"") -> Aleksandrów (pow. biłgorajski, woj. lubelskie) | BA8: 0 | BB8: =IF(ISNUMBER(SEARCH('ankieta ESG'!$G$183,BC8)),MAX($BB$3:BB7)+1,0) -> 5 | BC8: Aleksandrów (pow. biłgorajski, woj. lubelskie) | BD8: 0 | BE8: =IFERROR(VLOOKUP(ROWS($BC$4:BC8),$BB$4:$BC$2337,2,0),"") -> Aleksandrów (pow. biłgorajski, woj. lubelskie) | BF8: 0 | BG8: =IF(ISNUMBER(SEARCH('ankieta ESG'!$G$184,BH8)),MAX($BG$3:BG7)+1,0) -> 5 | BH8: Aleksandrów (pow. biłgorajski, woj. lubelskie) | BI8: 0 | BJ8: =IFERROR(VLOOKUP(ROWS($BH$4:BH8),$BG$4:$BH$2337,2,0),"") -> Aleksandrów (pow. biłgorajski, woj. lubelskie) | BK8: 0 | BL8: =IF(ISNUMBER(SEARCH('ankieta ESG'!$G$185,BM8)),MAX($BL$3:BL7)+1,0) -> 5 | BM8: Aleksandrów (pow. biłgorajski, woj. lubelskie) | BN8: 0 | BO8: =IFERROR(VLOOKUP(ROWS($BM$4:BM8),$BL$4:$BM$2337,2,0),"") -> Aleksandrów (pow. biłgorajski, woj. lubelskie) | BP8: 0 | BQ8: =IF(ISNUMBER(SEARCH('ankieta ESG'!$G$186,BR8)),MAX($BQ$3:BQ7)+1,0) -> 5 | BR8: Aleksandrów (pow. biłgorajski, woj. lubelskie) | BS8: 0 | BT8: =IFERROR(VLOOKUP(ROWS($BR$4:BR8),$BQ$4:$BR$2337,2,0),"") -> Aleksandrów (pow. biłgorajski, woj. lubelskie) | BU8: 0 | BV8: =IF(ISNUMBER(SEARCH('ankieta ESG'!$G$187,BW8)),MAX($BV$3:BV7)+1,0) -> 5 | BW8: Aleksandrów (pow. biłgorajski, woj. lubelskie) | BX8: 0 | BY8: =IFERROR(VLOOKUP(ROWS($BW$4:BW8),$BV$4:$BW$2337,2,0),"") -> Aleksandrów (pow. biłgorajski, woj. lubelskie) | BZ8: 0 | CA8: =IF(ISNUMBER(SEARCH('ankieta ESG'!$G$188,CB8)),MAX($CA$3:CA7)+1,0) -> 5 | CB8: Aleksandrów (pow. biłgorajski, woj. lubelskie) | CC8: 0 | CD8: =IFERROR(VLOOKUP(ROWS($CB$4:CB8),$CA$4:$CB$2337,2,0),"") -> Aleksandrów (pow. biłgorajski, woj. lubelskie) | CE8: 0 | CF8: =IF(ISNUMBER(SEARCH('ankieta ESG'!$G$189,CG8)),MAX($CF$3:CF7)+1,0) -> 5 | CG8: Aleksandrów (pow. biłgorajski, woj. lubelskie) | CH8: 0 | CI8: =IFERROR(VLOOKUP(ROWS($CG$4:CG8),$CF$4:$CG$2337,2,0),"") -> Aleksandrów (pow. biłgorajski, woj. lubelskie) | CJ8: 0
B9: =IF(ISNUMBER(SEARCH('ankieta ESG'!$E$11,C9)),MAX(B$3:$B8)+1,0) -> 6 | C9: 01.16.Z Uprawa roślin włóknistych (PKD 2007) | D9: 0 | E9: =IFERROR(VLOOKUP(ROWS($C$4:C9),$B$4:$C$1385,2,0),"") -> 01.16.Z Uprawa roślin włóknistych (PKD 2007) | F9: 0 | X9: Inne zwierzęta | Y9: 0 | AJ9: wprowadź wartość liczbową | AK9: 0 | AM9: =IF(ISNUMBER(SEARCH('ankieta ESG'!$G$180,AN9)),MAX(AM$3:$AM8)+1,0) -> 6 | AN9: Aleksandrów (pow. piotrkowski, woj. łódzkie) | AO9: 0 | AP9: =IFERROR(VLOOKUP(ROWS($AN$4:AN9),$AM$4:$AN$2337,2,0),"") -> Aleksandrów (pow. piotrkowski, woj. łódzkie) | AQ9: 0 | AR9: =IF(ISNUMBER(SEARCH('ankieta ESG'!$G$181,AS9)),MAX($AR$3:AR8)+1,0) -> 6 | AS9: Aleksandrów (pow. piotrkowski, woj. łódzkie) | AT9: 0 | AU9: =IFERROR(VLOOKUP(ROWS($AS$4:AS9),$AR$4:$AS$2337,2,0),"") -> Aleksandrów (pow. piotrkowski, woj. łódzkie) | AV9: 0 | AW9: =IF(ISNUMBER(SEARCH('ankieta ESG'!$G$182,AX9)),MAX($AW$3:AW8)+1,0) -> 6 | AX9: Aleksandrów (pow. piotrkowski, woj. łódzkie) | AY9: 0 | AZ9: =IFERROR(VLOOKUP(ROWS($AX$4:AX9),$AW$4:$AX$2337,2,0),"") -> Aleksandrów (pow. piotrkowski, woj. łódzkie) | BA9: 0 | BB9: =IF(ISNUMBER(SEARCH('ankieta ESG'!$G$183,BC9)),MAX($BB$3:BB8)+1,0) -> 6 | BC9: Aleksandrów (pow. piotrkowski, woj. łódzkie) | BD9: 0 | BE9: =IFERROR(VLOOKUP(ROWS($BC$4:BC9),$BB$4:$BC$2337,2,0),"") -> Aleksandrów (pow. piotrkowski, woj. łódzkie) | BF9: 0 | BG9: =IF(ISNUMBER(SEARCH('ankieta ESG'!$G$184,BH9)),MAX($BG$3:BG8)+1,0) -> 6 | BH9: Aleksandrów (pow. piotrkowski, woj. łódzkie) | BI9: 0 | BJ9: =IFERROR(VLOOKUP(ROWS($BH$4:BH9),$BG$4:$BH$2337,2,0),"") -> Aleksandrów (pow. piotrkowski, woj. łódzkie) | BK9: 0 | BL9: =IF(ISNUMBER(SEARCH('ankieta ESG'!$G$185,BM9)),MAX($BL$3:BL8)+1,0) -> 6 | BM9: Aleksandrów (pow. piotrkowski, woj. łódzkie) | BN9: 0 | BO9: =IFERROR(VLOOKUP(ROWS($BM$4:BM9),$BL$4:$BM$2337,2,0),"") -> Aleksandrów (pow. piotrkowski, woj. łódzkie) | BP9: 0 | BQ9: =IF(ISNUMBER(SEARCH('ankieta ESG'!$G$186,BR9)),MAX($BQ$3:BQ8)+1,0) -> 6 | BR9: Aleksandrów (pow. piotrkowski, woj. łódzkie) | BS9: 0 | BT9: =IFERROR(VLOOKUP(ROWS($BR$4:BR9),$BQ$4:$BR$2337,2,0),"") -> Aleksandrów (pow. piotrkowski, woj. łódzkie) | BU9: 0 | BV9: =IF(ISNUMBER(SEARCH('ankieta ESG'!$G$187,BW9)),MAX($BV$3:BV8)+1,0) -> 6 | BW9: Aleksandrów (pow. piotrkowski, woj. łódzkie) | BX9: 0 | BY9: =IFERROR(VLOOKUP(ROWS($BW$4:BW9),$BV$4:$BW$2337,2,0),"") -> Aleksandrów (pow. piotrkowski, woj. łódzkie) | BZ9: 0 | CA9: =IF(ISNUMBER(SEARCH('ankieta ESG'!$G$188,CB9)),MAX($CA$3:CA8)+1,0) -> 6 | CB9: Aleksandrów (pow. piotrkowski, woj. łódzkie) | CC9: 0 | CD9: =IFERROR(VLOOKUP(ROWS($CB$4:CB9),$CA$4:$CB$2337,2,0),"") -> Aleksandrów (pow. piotrkowski, woj. łódzkie) | CE9: 0 | CF9: =IF(ISNUMBER(SEARCH('ankieta ESG'!$G$189,CG9)),MAX($CF$3:CF8)+1,0) -> 6 | CG9: Aleksandrów (pow. piotrkowski, woj. łódzkie) | CH9: 0 | CI9: =IFERROR(VLOOKUP(ROWS($CG$4:CG9),$CF$4:$CG$2337,2,0),"") -> Aleksandrów (pow. piotrkowski, woj. łódzkie) | CJ9: 0
